BEGIN:VCALENDAR
VERSION:2.0
PRODID:-//ChamberMaster//Event Calendar 2.0//EN
METHOD:PUBLISH
X-PUBLISHED-TTL:P3D
REFRESH-INTERVAL:P3D
CALSCALE:GREGORIAN
BEGIN:VEVENT
DTSTART;VALUE=DATE:20240727
DTEND;VALUE=DATE:20240728
TRANSP:TRANSPARENT
X-MICROSOFT-CDO-ALLDAYEVENT:TRUE
SUMMARY:Community Meeting-JOCO Library
DESCRIPTION:Building a Bright Future  The New Grants Pass Library\n\n\n\nJosephine Community Library Foundation purchased downtown property in July 2023 to build the future home of a new downtown Grants Pass library.\n\n\n\nCommunity members are invited to participate in community meetings throughout July to hear from library leaders and local architects\, view multiple design concepts\, and offer feedback about the new library space.\n\n\n\nSaturday\, July 20 at noon \n\nMila's Moments Co.\n\n613 SE 6th St\, Grants Pass\n\n\n\nThursday\, July 25 at 2 pm \n\nFruitdale Grange\, #379\n\n1440 Parkdale Dr\, Grants Pass\n\n\n\nSaturday\, July 27 at 10 am \n\nRedwood Grange\, #760\n\n1830 Redwood Ave\, Grants Pass\n\n\n\nThis visionary project promises to be more than just a library   it's a community hub that will ignite economic growth\, enhance walkability\, and foster local pride. Watch the video above to learn from community leaders and business owners about the anticipated impacts and discover how this space will host events and activities to bring our community together.\n\n\n\nSpecial thanks to Concierge Security for their assistance and to Oregon Humanities for grant support for these meetings.\n\n\n\nLearn more
X-ALT-DESC;FMTTYPE=text/html:<span style="font-size:26px\;"><strong>Building a Bright Future &mdash\;The New Grants Pass Library</strong></span><br />\n<br />\n<span style="font-size:20px\;">Josephine Community Library Foundation purchased downtown property in July 2023 to build the future home of a new downtown Grants Pass library.<br />\n<br />\nCommunity members are invited to participate in community meetings throughout July to hear from library leaders and local architects\, view multiple design concepts\, and offer feedback about the new library space.<br />\n<br />\n<strong>Saturday\, July 20 at noon</strong>&nbsp\;<br />\nMila&rsquo\;s Moments Co.<br />\n613 SE 6th St\, Grants Pass<br />\n<br />\n<strong>Thursday\, July 25 at 2 pm</strong>&nbsp\;<br />\nFruitdale Grange\, #379<br />\n1440 Parkdale Dr\, Grants Pass<br />\n<br />\n<strong>Saturday\, July 27 at 10 am</strong>&nbsp\;<br />\nRedwood Grange\, #760<br />\n1830 Redwood Ave\, Grants Pass<br />\n<br />\nThis visionary project promises to be more than just a library &mdash\; it&#39\;s a community hub that will ignite economic growth\, enhance walkability\, and foster local pride. Watch the video above to learn from community leaders and business owners about the anticipated impacts and discover how this space will host events and activities to bring our community together.<br />\n<br />\nSpecial thanks to Concierge Security for their assistance and to Oregon Humanities for grant support for these meetings.<br />\n<br />\n<a href="https://jclfoundation.org/">Learn more</a></span>
LOCATION:Mila's Moments Fruitdale Grange Redwood Grange
UID:e.1818.49947
SEQUENCE:3
DTSTAMP:20260420T072038Z
URL:https://business.grantspasschamber.org/events/details/community-meeting-joco-library-07-27-2024-49947
END:VEVENT

END:VCALENDAR
