BEGIN:VCALENDAR
VERSION:2.0
PRODID:-//ChamberMaster//Event Calendar 2.0//EN
METHOD:PUBLISH
X-PUBLISHED-TTL:P3D
REFRESH-INTERVAL:P3D
CALSCALE:GREGORIAN
BEGIN:VEVENT
DTSTART:20180306T220000Z
DTEND:20180307T000000Z
X-MICROSOFT-CDO-ALLDAYEVENT:FALSE
SUMMARY:Community Pickleball ~ Fruitdale Park
DESCRIPTION:Community Pickleball for all ages. Lessons provided. No charge. All you need is a pair of tennis shoes.
X-ALT-DESC;FMTTYPE=text/html:<strong>Community Pickleball for all ages. Lessons provided. No charge. All you need is a pair of tennis shoes.</strong>
LOCATION:Fruitdale Park
UID:e.1818.25041
SEQUENCE:3
DTSTAMP:20260424T070850Z
URL:https://business.grantspasschamber.org/events/details/community-pickleball-fruitdale-park-03-06-2018-25041
END:VEVENT

END:VCALENDAR
