BEGIN:VCALENDAR
VERSION:2.0
PRODID:-//ChamberMaster//Event Calendar 2.0//EN
METHOD:PUBLISH
X-PUBLISHED-TTL:P3D
REFRESH-INTERVAL:P3D
CALSCALE:GREGORIAN
BEGIN:VEVENT
DTSTART:20160813T170000Z
DTEND:20160813T230000Z
X-MICROSOFT-CDO-ALLDAYEVENT:FALSE
SUMMARY:COMMUNITY SAFETY FAIR-- NORTH VALLEY
DESCRIPTION:Community Safety Fair -- North Valley\n\n\n\nSaturday\, August 13\, 2016\n\n10:00 AM - 4:00 PM\n\nNorth Valley High School\n\n\n\nVendors\, Demonstrations\, & Presentations\n\ncentered on Personal Safety\, Property Safety\, safe communities and emergency preparedness\n\n\n\nThe mission of the Community Safety Fair for North Valley is to empower individuals with resources and knowledge to enhance their personal and property safety\, as well as increase the safety of the community at grassroots level.\n\n\n\nAttendance is Free\n\n\n\nVendor Space $25 -- email for Vendor Packet\n\ninfo@communitysafetyfair.org
X-ALT-DESC;FMTTYPE=text/html:<span style="font-size:26px"><span style="font-size:36px"><span style="color:#000000"><strong><span style="background-color:#FF0000">Community Safety Fair</span></strong></span><span style="color:#FFFF00"><strong><span style="background-color:#FF0000"> -- North Valley</span></strong></span></span></span><br />\n<br />\n<span style="font-size:18px"><strong>Saturday\, August 13\, 2016<br />\n10:00 AM - 4:00 PM<br />\nNorth Valley High School</strong></span><br />\n<br />\n<strong><span style="font-size:14px">Vendors\, Demonstrations\, &amp\; Presentations<br />\ncentered on&nbsp\;Personal Safety\, Property Safety\, safe communities and emergency preparedness<br />\n<br />\n<span style="color:rgb(78\, 86\, 101)\; font-family:helvetica\,arial\,sans-serif">The mission of the Community Safety Fair for North Valley is to empower individuals with resources and knowledge to enhance their personal and property safety\, as well as increase the safety of the community at grassroots level.</span><br />\n<br />\nAttendance is Free<br />\n<br />\nVendor Space $25 -- email for Vendor Packet<br />\ninfo@communitysafetyfair.org</span></strong>
LOCATION:North Valley High School
UID:e.1818.17468
SEQUENCE:3
DTSTAMP:20260425T192504Z
URL:https://business.grantspasschamber.org/events/details/community-safety-fair-north-valley-08-13-2016-17468
END:VEVENT

END:VCALENDAR
