BEGIN:VCALENDAR
VERSION:2.0
PRODID:-//ChamberMaster//Event Calendar 2.0//EN
METHOD:PUBLISH
X-PUBLISHED-TTL:P3D
REFRESH-INTERVAL:P3D
CALSCALE:GREGORIAN
BEGIN:VEVENT
DTSTART:20160629T013000Z
DTEND:20160629T013000Z
X-MICROSOFT-CDO-ALLDAYEVENT:FALSE
SUMMARY:Concerts in the Park 2016
DESCRIPTION:Free Concerts in the Park\n\n"Mercy" ~  Featuring Lynda Morrison (Blues/ Rock)
X-ALT-DESC;FMTTYPE=text/html:<strong>Free Concerts in the Park<br />\n&quot\;Mercy&quot\; ~&nbsp\; Featuring Lynda Morrison (Blues/ Rock)</strong><br />\n<br />\n&nbsp\;
LOCATION:Riverside Park\, Grants Pass
UID:e.1818.11261
SEQUENCE:3
DTSTAMP:20260425T224012Z
URL:https://business.grantspasschamber.org/events/details/concerts-in-the-park-2016-06-28-2016-11261
END:VEVENT

END:VCALENDAR
