BEGIN:VCALENDAR
VERSION:2.0
PRODID:-//ChamberMaster//Event Calendar 2.0//EN
METHOD:PUBLISH
X-PUBLISHED-TTL:P3D
REFRESH-INTERVAL:P3D
CALSCALE:GREGORIAN
BEGIN:VEVENT
DTSTART:20160727T013000Z
DTEND:20160727T013000Z
X-MICROSOFT-CDO-ALLDAYEVENT:FALSE
SUMMARY:Concerts in the Park 2016
DESCRIPTION:Free Concerts in the Park\n\n"Sound Stage Review" ( Back to the 50's)
X-ALT-DESC;FMTTYPE=text/html:<strong>Free Concerts in the Park<br />\n&quot\;Sound Stage Review&quot\; ( Back to the 50&#39\;s)</strong><br />\n<br />\n&nbsp\;
LOCATION:Riverside Park\, Grants Pass
UID:e.1818.11265
SEQUENCE:3
DTSTAMP:20260425T210257Z
URL:https://business.grantspasschamber.org/events/details/concerts-in-the-park-2016-07-26-2016-11265
END:VEVENT

END:VCALENDAR
