BEGIN:VCALENDAR
VERSION:2.0
PRODID:-//ChamberMaster//Event Calendar 2.0//EN
METHOD:PUBLISH
X-PUBLISHED-TTL:P3D
REFRESH-INTERVAL:P3D
CALSCALE:GREGORIAN
BEGIN:VEVENT
DTSTART:20160810T013000Z
DTEND:20160810T013000Z
X-MICROSOFT-CDO-ALLDAYEVENT:FALSE
SUMMARY:Concerts in the Park 2016
DESCRIPTION:Free Concerts in the Park\n\n"Quarterflash" ( 1980's Billboard pop-rock )
X-ALT-DESC;FMTTYPE=text/html:<strong>Free Concerts in the Park<br />\n&quot\;Quarterflash&quot\; ( 1980&#39\;s Billboard pop-rock )</strong><br />\n<br />\n&nbsp\;
LOCATION:Riverside Park\, Grants Pass
UID:e.1818.11267
SEQUENCE:3
DTSTAMP:20260425T192705Z
URL:https://business.grantspasschamber.org/events/details/concerts-in-the-park-2016-08-09-2016-11267
END:VEVENT

END:VCALENDAR
