BEGIN:VCALENDAR
VERSION:2.0
PRODID:-//ChamberMaster//Event Calendar 2.0//EN
METHOD:PUBLISH
X-PUBLISHED-TTL:P3D
REFRESH-INTERVAL:P3D
CALSCALE:GREGORIAN
BEGIN:VEVENT
DTSTART:20180627T013000Z
DTEND:20180627T013000Z
X-MICROSOFT-CDO-ALLDAYEVENT:FALSE
SUMMARY:Concerts in the Park 2018
DESCRIPTION:Free Concerts in the Park\n\nTuesdays through August 7.\n\nNo Concert July 3\n\nJune 26\n\nHard Day"s Night\n\nHard Day's Night\, Southern California's #1 Beatles Tribute Show has been thrilling audiences with tight harmonies and flawless note-for-note instrumentals renditions of Beatles hits. Hard Day's Night has honored their show to become one of the most musically and visually satisfying Beatle tribute acts in the world.
X-ALT-DESC;FMTTYPE=text/html:<strong>Free Concerts in the Park</strong><br />\n<strong>Tuesdays through August 7</strong>.<br />\nNo Concert July 3<br />\n<strong>June 26</strong><br />\n<strong>Hard Day&rdquo\;s Night</strong><br />\n<span style="font-size:12.0pt\;">Hard Day&rsquo\;s Night\, Southern California&rsquo\;s #1 Beatles Tribute Show has been thrilling audiences with tight harmonies and flawless note-for-note instrumentals renditions of Beatles hits. Hard Day&rsquo\;s Night has honored their show to become one of the most musically and visually satisfying Beatle tribute acts in the world.</span><br />\n&nbsp\;
LOCATION:Riverside Park\, Grants Pass
UID:e.1818.24695
SEQUENCE:3
DTSTAMP:20260424T012855Z
URL:https://business.grantspasschamber.org/events/details/concerts-in-the-park-2018-06-26-2018-24695
END:VEVENT

END:VCALENDAR
