BEGIN:VCALENDAR
VERSION:2.0
PRODID:-//ChamberMaster//Event Calendar 2.0//EN
METHOD:PUBLISH
X-PUBLISHED-TTL:P3D
REFRESH-INTERVAL:P3D
CALSCALE:GREGORIAN
BEGIN:VEVENT
DTSTART:20180620T013000Z
DTEND:20180620T033000Z
X-MICROSOFT-CDO-ALLDAYEVENT:FALSE
SUMMARY:Concerts in the Park 2018
DESCRIPTION:Free Concerts in the Park\n\nTuesdays through August 7.\n\nNo concert on July 3.\n\nJune 19\n\nGretchen Owens\n\nAt 23 years old\, Gretchen?s authentic\, country voice navigates its way into the hearts of listeners. Growing up on a farm in the Pacific Northwest\, she surely has her own unique country style\, with a bold clarity and warmth in her velvety voice.  With Gretchen?s bright personality and a sparkle on her eye\, she is sure to captivate the crowd.
X-ALT-DESC;FMTTYPE=text/html:<strong>Free Concerts in the Park</strong><br />\n<strong>Tuesdays through August 7</strong>.<br />\nNo concert on July 3.<br />\n<strong>June 19</strong><br />\n<strong>Gretchen Owens</strong><br />\n<span style="font-size:12.0pt\;">At 23 years old\, Gretchen?s authentic\, country voice navigates its way into the hearts of listeners. Growing up on a farm in the Pacific Northwest\, she surely has her own unique country style\, with a bold clarity and warmth in her velvety voice.&nbsp\; With Gretchen?s bright personality and a sparkle on her eye\, she is sure to captivate the crowd.</span><br />\n<br />\n&nbsp\;
LOCATION:Riverside Park\, Grants Pass
UID:e.1818.24694
SEQUENCE:3
DTSTAMP:20260424T012706Z
URL:https://business.grantspasschamber.org/events/details/concerts-in-the-park-2018-24694
END:VEVENT

END:VCALENDAR
