BEGIN:VCALENDAR
VERSION:2.0
PRODID:-//ChamberMaster//Event Calendar 2.0//EN
METHOD:PUBLISH
X-PUBLISHED-TTL:P3D
REFRESH-INTERVAL:P3D
CALSCALE:GREGORIAN
BEGIN:VEVENT
DTSTART:20231107T010000Z
DTEND:20231107T030000Z
X-MICROSOFT-CDO-ALLDAYEVENT:FALSE
SUMMARY:Conversation Event: Getting Older and Staying Connected
DESCRIPTION:Aging is a life-long experience that is both universal and different for everyone. Some people join new communities and friendships in old age\, while others experience profound isolation. Generational divides\, both real and perceived\, can add to a sense of not belonging.\n\n\n\nAllCare Health invites you for a for a conversation with Andrea Cano\, Fred Grewe\, and Jenny Sasser to talk about aging and belonging: What are our fears around aging? How can we collaborate across generational divides? What can we do to ensure people are fully included in our communities as they age? This event is presented in partnership with Josephine Community Library District and AllCare Health.
X-ALT-DESC;FMTTYPE=text/html:<br />\n<span style="font-size:20px\;">Aging is a life-long experience that is both universal and different for everyone. Some people join new communities and friendships in old age\, while others experience profound isolation. Generational divides\, both real and perceived\, can add to a sense of not belonging.<br />\n<br />\nAllCare Health invites you for a for a conversation with Andrea Cano\, Fred Grewe\, and Jenny Sasser to talk about aging and belonging: What are our fears around aging? How can we collaborate across generational divides? What can we do to ensure people are fully included in our communities as they age? This event is presented in partnership with Josephine Community Library District and AllCare Health.</span>
LOCATION:AllCare Health Community Room 1701 NE 7th St. Grants Pass\, OR 97526
UID:e.1818.45907
SEQUENCE:3
DTSTAMP:20260420T212849Z
URL:https://business.grantspasschamber.org/events/details/conversation-event-getting-older-and-staying-connected-45907
END:VEVENT

END:VCALENDAR
