BEGIN:VCALENDAR
VERSION:2.0
PRODID:-//ChamberMaster//Event Calendar 2.0//EN
METHOD:PUBLISH
X-PUBLISHED-TTL:P3D
REFRESH-INTERVAL:P3D
CALSCALE:GREGORIAN
BEGIN:VEVENT
DTSTART:20160618T170000Z
DTEND:20160618T190000Z
X-MICROSOFT-CDO-ALLDAYEVENT:FALSE
SUMMARY:COOKING WITH KIDS: FATHER'S DAY GOODIES FOR DAD
DESCRIPTION:Kids will be excited to make some fun and easy treats for the dads in their life. FREE COOKING CLASS! Class includes recipes as well as samples of each item prepared.\n\n\n\nClasses will be held in the Demonstration Kitchen on the 4th Floor of the Asante Center for Outpatient Health located at 537 SW Union Avenue in Grants Pass. Space is limited\, reservations are required. Please call and reserve your seat at 541-471-4208.
X-ALT-DESC;FMTTYPE=text/html:<strong>Kids will be excited to make some fun and easy treats for the dads in their life. FREE COOKING CLASS! Class includes recipes as well as samples of each item prepared.<br />\n<br />\nClasses will be held in the Demonstration Kitchen on the 4th Floor of the Asante Center for Outpatient Health located at 537 SW Union Avenue in Grants Pass. Space is limited\, reservations are required. Please call and reserve your seat at 541-471-4208.</strong>
LOCATION:Classes are located at: Asante Center for Outpatient Health 537 SW Union Ave Grants Pass\, OR 97527 Demonstration Kitchen\, Fourth Floor ? Straight ahead off the elevator
UID:e.1818.17450
SEQUENCE:3
DTSTAMP:20260425T224222Z
URL:https://business.grantspasschamber.org/events/details/cooking-with-kids-father-s-day-goodies-for-dad-06-18-2016-17450
END:VEVENT

END:VCALENDAR
