BEGIN:VCALENDAR
VERSION:2.0
PRODID:-//ChamberMaster//Event Calendar 2.0//EN
METHOD:PUBLISH
X-PUBLISHED-TTL:P3D
REFRESH-INTERVAL:P3D
CALSCALE:GREGORIAN
BEGIN:VEVENT
DTSTART:20160917T173000Z
DTEND:20160917T193000Z
X-MICROSOFT-CDO-ALLDAYEVENT:FALSE
SUMMARY:COOKING WITH KIDS: HEALTHY LUNCH OPTIONS
DESCRIPTION:Kids will be excited to make some easy and healthy options for lunch\, whether eating at home or taking them to school.\n\n\n\nFREE COOKING CLASS! Class includes recipes as well as samples of each item prepared. Classes will be held in the Demonstration Kitchen on the 4th Floor of the Asante Center for Outpatient Health located at 537 SW Union Avenue in Grants Pass. Space is limited\, reservations are required. Please call and reserve your seat at 541-471-4208.
X-ALT-DESC;FMTTYPE=text/html:<strong>Kids will be excited to make some easy and healthy options for lunch\, whether eating at home or taking them to school.<br />\n<br />\nFREE COOKING CLASS! Class includes recipes as well as samples of each item prepared. Classes will be held in the Demonstration Kitchen on the 4th Floor of the Asante Center for Outpatient Health located at 537 SW Union Avenue in Grants Pass. Space is limited\, reservations are required. Please call and reserve your seat at 541-471-4208.</strong>
LOCATION:Asante Center for Outpatient Health 537 SW Union Ave Grants Pass\, OR 97527 Demonstration Kitchen\, Fourth Floor Straight ahead off the elevator
UID:e.1818.17704
SEQUENCE:3
DTSTAMP:20260425T181733Z
URL:https://business.grantspasschamber.org/events/details/cooking-with-kids-healthy-lunch-options-09-17-2016-17704
END:VEVENT

END:VCALENDAR
