BEGIN:VCALENDAR
VERSION:2.0
PRODID:-//ChamberMaster//Event Calendar 2.0//EN
METHOD:PUBLISH
X-PUBLISHED-TTL:P3D
REFRESH-INTERVAL:P3D
CALSCALE:GREGORIAN
BEGIN:VEVENT
DTSTART:20221029T170000Z
DTEND:20221030T010000Z
X-MICROSOFT-CDO-ALLDAYEVENT:FALSE
SUMMARY:Corn Maze and Pumpkin Patch~Fort Vannoy Farms
DESCRIPTION:The Corn Maze Pumpkin Patch is open DAILY from 10:00am to 6:00pm the entire month of October!\n\n\n\nBring the family for fun\, Food Vendors\, Petting Zoo\, Kids Play Area\, Cow Train\, Pumpkin Chunker and the Corn Maze!\n\n\n\n \nHaunted Corn Maze\n\nOctober 7th and 8th\n\nOctober 14th and 15th\n\nOctober 21st and 22nd\n\nOctober 28th and 29th\n\n8:00 pm - 11:00 pm\n\n\n\nOctober 23rd\, 30th\, 31st\n\n8:00 pm - 10:00 pm\n\n\nFor more information please\n\nvisit http://www.fortvannoyfarms.com
X-ALT-DESC;FMTTYPE=text/html:<div style="text-align: center\;"><span style="font-size:20px\;"><span style="color: rgb(29\, 33\, 41)\; font-family: Helvetica\, Arial\, sans-serif\; background-color: rgb(255\, 255\, 255)\;">The Corn Maze Pumpkin Patch is open <strong>DAILY</strong> from 10:00am to 6:00pm the entire month of October!</span><br />\n<br />\nBring the family for fun\, Food Vendors\, Petting Zoo\, Kids Play Area\,&nbsp\;<span style="color: rgb(29\, 33\, 41)\; font-family: Helvetica\, Arial\, sans-serif\; text-align: center\; background-color: rgb(255\, 255\, 255)\;">Cow Train\, Pumpkin Chunker and the Corn Maze!</span></span><br />\n<br style="color: rgb(29\, 33\, 41)\; font-family: Helvetica\, Arial\, sans-serif\; font-size: 14px\; background-color: rgb(255\, 255\, 255)\;" />\n&nbsp\;\n<h3 class="rrr" style="font-variant-numeric: normal\; font-variant-east-asian: normal\; font-weight: normal\; font-stretch: normal\; font-size: 1.9em\; line-height: normal\; font-family: Philosopher\, Verdana\, Helvetica\, sans-serif\; color: rgb(90\, 121\, 25)\; margin: 0px 0px 25px\; padding: 5px 0px\; text-align: center\; border-top: 3px solid rgb(73\, 99\, 47)\; border-bottom: 1px solid rgb(73\, 99\, 47)\; background-color: rgb(255\, 255\, 255)\;"><span style="font-size:20px\;">Haunted Corn Maze</span></h3>\n\n<h6 style="font-variant-numeric: normal\; font-variant-east-asian: normal\; font-weight: normal\; font-stretch: normal\; font-size: 1.2em\; line-height: normal\; font-family: Verdana\, Helvetica\, sans-serif\; color: rgb(64\, 64\, 64)\; margin: 0.3em 0px\; background-color: rgb(255\, 255\, 255)\;"><span style="font-size:20px\;">October 7th and 8th<br />\nOctober 14th and 15th<br />\nOctober 21st and 22nd<br />\nOctober 28th and 29th<br />\n8:00 pm - 11:00 pm<br />\n<br />\nOctober 23rd\, 30th\, 31st<br />\n8:00 pm - 10:00 pm</span></h6>\n<br />\n<span style="font-size:20px\;"><span style="color: rgb(29\, 33\, 41)\; font-family: Helvetica\, Arial\, sans-serif\; background-color: rgb(255\, 255\, 255)\;"><span style="font-family:comic sans ms\;"><span style="font-family:arial\;">For more information please<br />\nvisit&nbsp\;<a href="http://www.fortvannoyfarms.com">http://www.fortvannoyfarms.com</a></span></span></span></span></div>\n
LOCATION:Fort Vannoy Farms 5791 Lower River Rd
UID:e.1818.41433
SEQUENCE:3
DTSTAMP:20260425T161507Z
URL:https://business.grantspasschamber.org/events/details/corn-maze-and-pumpkin-patch-fort-vannoy-farms-10-29-2022-41433
END:VEVENT

END:VCALENDAR
