BEGIN:VCALENDAR
VERSION:2.0
PRODID:-//ChamberMaster//Event Calendar 2.0//EN
METHOD:PUBLISH
X-PUBLISHED-TTL:P3D
REFRESH-INTERVAL:P3D
CALSCALE:GREGORIAN
BEGIN:VEVENT
DTSTART:20180211T220000Z
DTEND:20180212T010000Z
X-MICROSOFT-CDO-ALLDAYEVENT:FALSE
SUMMARY:''Count Her In'' - Women & Girls Empowerment Event
DESCRIPTION:Coalition for Kids and Community partners are sponsoring the "Count Her in: Women and Girls Empowerment Event" focusing on issues impacting our community in both positive and challenging ways.\n\n\n\nRefreshments and  child care  (ages 0-10) will be available. \n\n\n\nGrants Pass High School Performing Arts Center\n\n\n\nVolunteers needed: Please contact Carolyn Kohn to volunteer or for child care.\n\n\n\nMore information: Facebook Event Link
X-ALT-DESC;FMTTYPE=text/html:<br />\n<strong>Coalition for Kids and Community partners are sponsoring the &quot\;Count Her in: Women and Girls Empowerment Event&quot\; focusing on issues impacting our community in both positive and challenging ways.<br />\n<br />\nRefreshments and&nbsp\; child care &nbsp\;(ages 0-10) will be available.&nbsp\;<br />\n<br />\nGrants Pass High School Performing Arts Center<br />\n<br />\nVolunteers needed: Please contact Carolyn Kohn to volunteer or for child care.<br />\n<br />\nMore information:&nbsp\;</strong><a href="https://www.facebook.com/events/2222832187943788/">Facebook Event Link</a>
LOCATION:GPHS Performing Arts Center 830 NE 9th Street Grants Pass Refreshments and child care (ages 0-10) will be available.
UID:e.1818.25010
SEQUENCE:3
DTSTAMP:20260424T093246Z
URL:https://business.grantspasschamber.org/events/details/count-her-in-women-girls-empowerment-event-25010
END:VEVENT

END:VCALENDAR
