BEGIN:VCALENDAR
VERSION:2.0
PRODID:-//ChamberMaster//Event Calendar 2.0//EN
METHOD:PUBLISH
X-PUBLISHED-TTL:P3D
REFRESH-INTERVAL:P3D
CALSCALE:GREGORIAN
BEGIN:VEVENT
DTSTART;VALUE=DATE:20161011
DTEND;VALUE=DATE:20161012
TRANSP:TRANSPARENT
X-MICROSOFT-CDO-ALLDAYEVENT:TRUE
SUMMARY:County Commissioner Candidate Forums ~ North Valley Community Watch
DESCRIPTION:North Valley Community Watch\, in conjunction with a civics class at North Valley High School.  Pursuant NVCW's mission\, the forums will focus on the topic of public safety. \n\n\n\nDan DeYoung and Keith Heck will answers questions from moderators and the audience members on September 20th\n\n\n\nLily Morgan and Bill Hunker will attend a similar event on October 11th\n\n\n\nThe town hall forums will be moderated by David Smith\, a NVCW member and Masters in Social Work student\, assisted by NVCW leaders Pete Scaglion and Charlyn Witcher.\n\n\n\nEach candidate will be asked to respond to questions from the moderator\, and the public will be able to submit questions which will be asked during the last half of each forum.
X-ALT-DESC;FMTTYPE=text/html:<strong>North Valley Community Watch\, in conjunction with a civics class at North Valley High School.&nbsp\; Pursuant NVCW&#39\;s mission\, the forums will focus on the topic of public safety.&nbsp\;<br />\n<br />\n<u>Dan DeYoung and Keith Heck will answers questions from moderators and the audience members on September 20th<br />\n<br />\nLily Morgan and Bill Hunker will attend a similar event on October 11th</u><br />\n<br />\nThe town hall forums will be moderated by David Smith\, a NVCW member and Masters in Social Work student\, assisted by NVCW leaders Pete Scaglion and Charlyn Witcher.<br />\n<br />\nEach candidate will be asked to respond to questions from the moderator\, and the public will be able to submit questions which will be asked during the last half of each forum. </strong>
LOCATION:North Valley High School 6741 Monument Drive (in the Commons Area) Merlin
UID:e.1818.17814
SEQUENCE:3
DTSTAMP:20260425T163052Z
URL:https://business.grantspasschamber.org/events/details/county-commissioner-candidate-forums-north-valley-community-watch-17814
END:VEVENT

END:VCALENDAR
