BEGIN:VCALENDAR
VERSION:2.0
PRODID:-//ChamberMaster//Event Calendar 2.0//EN
METHOD:PUBLISH
X-PUBLISHED-TTL:P3D
REFRESH-INTERVAL:P3D
CALSCALE:GREGORIAN
BEGIN:VEVENT
DTSTART:20191113T210000Z
DTEND:20191113T230000Z
X-MICROSOFT-CDO-ALLDAYEVENT:FALSE
SUMMARY:County Real Property Auction
DESCRIPTION:2019 Auction of Surplus Real Property owned by Josephine County includes sales of one residential lot in Grants Pass as well as large parcels located throughout Josephine County\; properties ranging from 0.6 acres to 80 acres.\n\n\n\nComplete list of properties and more information can be found on the website: http://www.co.josephine.or.us/auction
X-ALT-DESC;FMTTYPE=text/html:<br />\n<span style="font-size:16px\;">2019 Auction of Surplus Real Property owned by Josephine County includes sales of one residential lot in Grants Pass as well as large parcels located throughout Josephine County\; properties ranging from 0.6 acres to 80 acres.<br />\n<br />\nComplete list of properties and more information can be found on the website:&nbsp\;<a href="http://www.co.josephine.or.us/auction">http://www.co.josephine.or.us/auction</a></span>
LOCATION:Anne Basker Auditorium Courthouse Annex 600 NW 6th Street\, Grants Pass
UID:e.1818.32229
SEQUENCE:3
DTSTAMP:20260423T204645Z
URL:https://business.grantspasschamber.org/events/details/county-real-property-auction-32229
END:VEVENT

END:VCALENDAR
