BEGIN:VCALENDAR
VERSION:2.0
PRODID:-//ChamberMaster//Event Calendar 2.0//EN
METHOD:PUBLISH
X-PUBLISHED-TTL:P3D
REFRESH-INTERVAL:P3D
CALSCALE:GREGORIAN
BEGIN:VEVENT
DTSTART;VALUE=DATE:20161007
DTEND;VALUE=DATE:20161008
TRANSP:TRANSPARENT
X-MICROSOFT-CDO-ALLDAYEVENT:TRUE
SUMMARY:Courts & Community Caring for Children & Families Conference
DESCRIPTION:14th Annual Jackson County Conference - Save the Date\n\n\n\nOver\, Under & Misdiagnosis of Troubled and Suicidal Youth by Dr. Lisa Boesky\, Psychologist\, Consultant & Author.\n\n\n\nMarijuana\, Drug Tolerance & Youth by Eric Martin\,  M.A.C.\, CADCIII\, CPS\, CRM & Director Emeritus of ACCBO.
X-ALT-DESC;FMTTYPE=text/html:<strong><u>14th Annual Jackson County Conference</u> - Save the Date<br />\n<br />\nOver\, Under &amp\; Misdiagnosis of Troubled and Suicidal Youth by Dr. Lisa Boesky\, Psychologist\, Consultant &amp\; Author.<br />\n<br />\nMarijuana\, Drug Tolerance &amp\; Youth by Eric Martin\,&nbsp\; M.A.C.\, CADCIII\, CPS\, CRM &amp\; Director Emeritus of ACCBO.</strong>
LOCATION:RRMC Smullin Center
UID:e.1818.17793
SEQUENCE:3
DTSTAMP:20260425T163419Z
URL:https://business.grantspasschamber.org/events/details/courts-community-caring-for-children-families-conference-17793
END:VEVENT

END:VCALENDAR
