BEGIN:VCALENDAR
VERSION:2.0
PRODID:-//ChamberMaster//Event Calendar 2.0//EN
METHOD:PUBLISH
X-PUBLISHED-TTL:P3D
REFRESH-INTERVAL:P3D
CALSCALE:GREGORIAN
BEGIN:VEVENT
DTSTART:20160627T160000Z
DTEND:20160630T200000Z
X-MICROSOFT-CDO-ALLDAYEVENT:FALSE
SUMMARY:Cradty Camp- Creative Time
DESCRIPTION:Join us for a week of creating awesome art to add sparkle to our summer spaces! We will use a variety of materials directly from nature\, some unique recycled items\, and a plethora of our own creativity! These finished works of art will make great gifts for family members or the birds! Along with the help from North Coast Children's Theater\, kids will also have an opportunity to create some mosaic pieces that will be installed permanently at Pacifica!
X-ALT-DESC;FMTTYPE=text/html:Join us for a week of creating awesome art to add sparkle to our summer spaces! We will use a variety of materials directly from nature\, some unique recycled items\, and a plethora of our own creativity! These finished works of art will make great gifts for family members or the birds! Along with the help from North Coast Children&#39\;s Theater\, kids will also have an opportunity to create some mosaic pieces that will be installed permanently at Pacifica!
LOCATION:Pacifica: A Garden in the Siskiyous 14615 Watergap Road Williams\, Oregon
UID:e.1818.17528
SEQUENCE:3
DTSTAMP:20260425T223559Z
URL:https://business.grantspasschamber.org/events/details/cradty-camp-creative-time-06-27-2016-17528
END:VEVENT

END:VCALENDAR
