BEGIN:VCALENDAR
VERSION:2.0
PRODID:-//ChamberMaster//Event Calendar 2.0//EN
METHOD:PUBLISH
X-PUBLISHED-TTL:P3D
REFRESH-INTERVAL:P3D
CALSCALE:GREGORIAN
BEGIN:VEVENT
DTSTART:20160813T223000Z
DTEND:20160814T020000Z
X-MICROSOFT-CDO-ALLDAYEVENT:FALSE
SUMMARY:Crafter Fair ~ Fruitdale Grange
DESCRIPTION:Crafter and Distributor event support local businesses and enjoy a night out. Eat some tasty tamales and enjoy free cookies.
X-ALT-DESC;FMTTYPE=text/html:<strong>Crafter and Distributor event support local businesses and enjoy a night out. Eat some tasty tamales and enjoy free cookies.</strong>
LOCATION:1440 Parkdale Fruitdale Grange
UID:e.1818.17743
SEQUENCE:3
DTSTAMP:20260425T192411Z
URL:https://business.grantspasschamber.org/events/details/crafter-fair-fruitdale-grange-08-13-2016-17743
END:VEVENT

END:VCALENDAR
