BEGIN:VCALENDAR
VERSION:2.0
PRODID:-//ChamberMaster//Event Calendar 2.0//EN
METHOD:PUBLISH
X-PUBLISHED-TTL:P3D
REFRESH-INTERVAL:P3D
CALSCALE:GREGORIAN
BEGIN:VEVENT
DTSTART:20160611T210000Z
DTEND:20160612T010000Z
X-MICROSOFT-CDO-ALLDAYEVENT:FALSE
SUMMARY:Customer Appreciation Day
DESCRIPTION:Motel Jones\, a one man band\, will be playing for your listening pleasure. Guthrie's b.b.q. Will be here selling tri-tip sandwiches and all beef hotdogs from 2 to 6\, sales and drawings. Bring a chair and a cooler and come join us!!
X-ALT-DESC;FMTTYPE=text/html:<span style="color: rgb(75\, 79\, 86)\; font-family: helvetica\, arial\, sans-serif\; font-size: 14px\; line-height: 18.76px\;">Motel Jones\, a one man band\, will be playing for your listening pleasure. Guthrie&#39\;s b.b.q. Will be here selling tri-tip sandwiches and all beef hotdogs from 2 to 6\, sales and drawings. Bring a chair and a cooler and come join us!!</span>
LOCATION:Victoria's Station 120 Galice Rd Merlin
UID:e.1818.17566
SEQUENCE:3
DTSTAMP:20260425T223604Z
URL:https://business.grantspasschamber.org/events/details/customer-appreciation-day-06-11-2016-17566
END:VEVENT

END:VCALENDAR
