BEGIN:VCALENDAR
VERSION:2.0
PRODID:-//ChamberMaster//Event Calendar 2.0//EN
METHOD:PUBLISH
X-PUBLISHED-TTL:P3D
REFRESH-INTERVAL:P3D
CALSCALE:GREGORIAN
BEGIN:VEVENT
DTSTART;VALUE=DATE:20160910
DTEND;VALUE=DATE:20160911
TRANSP:TRANSPARENT
X-MICROSOFT-CDO-ALLDAYEVENT:TRUE
SUMMARY:Cycle Oregon ~ Week Ride ~ Day 0
DESCRIPTION:The Week Ride is the original Cycle Oregon - a seven-day excursion through a different part of Oregon each year.\n\n\n\nBeginning on September 10th and running through September 17th\, the Week Ride commences in Myrtle Creek and takes cyclists on a scenic tour through Camas Valley\, Bandon\, Gold Beach\, Brookings\, Indian Mary Park\, and Glendale.
X-ALT-DESC;FMTTYPE=text/html:<strong>The Week Ride is the original Cycle Oregon - a seven-day excursion through a different part of Oregon each year.<br />\n<br />\nBeginning on September 10th and running through September 17th\, the Week Ride commences in Myrtle Creek and takes cyclists on a scenic tour through Camas Valley\, Bandon\, Gold Beach\, Brookings\, Indian Mary Park\, and Glendale. </strong>
LOCATION:You may have noticed that the dates for Cycle Oregon are September 10-17\, but the Day 1 route is for September 11. That's because of the often-overlooked Day 0. This is Saturday\, the day that riders converge on the first overnight site in Myrtle Creek. It's the day to pick up your packets\, re-acquaint with riders and Cycle Oregon folks\, get your tent routine down and maybe even go for a spin to loosen your legs. Dinner is served in the big tent\, and there will be live entertainment on the stage along with ride announcements.
UID:e.1818.15750
SEQUENCE:3
DTSTAMP:20260425T181533Z
URL:https://business.grantspasschamber.org/events/details/cycle-oregon-week-ride-day-0-09-10-2016-15750
END:VEVENT

END:VCALENDAR
