BEGIN:VCALENDAR
VERSION:2.0
PRODID:-//ChamberMaster//Event Calendar 2.0//EN
METHOD:PUBLISH
X-PUBLISHED-TTL:P3D
REFRESH-INTERVAL:P3D
CALSCALE:GREGORIAN
BEGIN:VEVENT
DTSTART;VALUE=DATE:20160912
DTEND;VALUE=DATE:20160913
TRANSP:TRANSPARENT
X-MICROSOFT-CDO-ALLDAYEVENT:TRUE
SUMMARY:Cycle Oregon ~ Week Ride ~ Day 2
DESCRIPTION:The Week Ride is the original Cycle Oregon - a seven-day excursion through a different part of Oregon each year.\n\n\n\nBeginning on September 10th and running through September 17th\, the Week Ride commences in Myrtle Creek and takes cyclists on a scenic tour through Camas Valley\, Bandon\, Gold Beach\, Brookings\, Indian Mary Park\, and Glendale.\n\n\n\nDay two - "Heroic Hills" - will begin in Camas Valley and take cyclists to Bandon.
X-ALT-DESC;FMTTYPE=text/html:<strong>The Week Ride is the original Cycle Oregon - a seven-day excursion through a different part of Oregon each year.<br />\n<br />\nBeginning on September 10th and running through September 17th\, the Week Ride commences in Myrtle Creek and takes cyclists on a scenic tour through Camas Valley\, Bandon\, Gold Beach\, Brookings\, Indian Mary Park\, and Glendale.<br />\n<br />\nDay two - &quot\;Heroic Hills&quot\; - will begin in Camas Valley and take cyclists to Bandon.</strong>
LOCATION:Shortly after leaving the valley\, you'll tackle one of the tougher hills of the ride. From the top\, you'll follow the ridgeline with endless views of the coastal range\, through active logging areas that power the economies of the small towns along the way. A quick and steep descent leads into miles of gentle downhill riding along the Coquille River. After lunch in a park\, three short climbs take you into the timber town of Coquille for another break. The Coquille River remains your guide as you ride through marshlands and coastal farms and get your first peek of the Pacific Ocean before arriving in Bandon-by-the-Sea to sleep.
UID:e.1818.15752
SEQUENCE:3
DTSTAMP:20260425T181410Z
URL:https://business.grantspasschamber.org/events/details/cycle-oregon-week-ride-day-2-09-12-2016-15752
END:VEVENT

END:VCALENDAR
