BEGIN:VCALENDAR
VERSION:2.0
PRODID:-//ChamberMaster//Event Calendar 2.0//EN
METHOD:PUBLISH
X-PUBLISHED-TTL:P3D
REFRESH-INTERVAL:P3D
CALSCALE:GREGORIAN
BEGIN:VEVENT
DTSTART;VALUE=DATE:20160913
DTEND;VALUE=DATE:20160914
TRANSP:TRANSPARENT
X-MICROSOFT-CDO-ALLDAYEVENT:TRUE
SUMMARY:Cycle Oregon ~ Week Ride ~ Day 3
DESCRIPTION:The Week Ride is the original Cycle Oregon - a seven-day excursion through a different part of Oregon each year.\n\n\n\nBeginning on September 10th and running through September 17th\, the Week Ride commences in Myrtle Creek and takes cyclists on a scenic tour through Camas Valley\, Bandon\, Gold Beach\, Brookings\, Indian Mary Park\, and Glendale.\n\n\n\nDay three - "Pacific Paradise" - will begin in Bandon and take cyclists to Gold Beach.
X-ALT-DESC;FMTTYPE=text/html:<strong>The Week Ride is the original Cycle Oregon - a seven-day excursion through a different part of Oregon each year.<br />\n<br />\nBeginning on September 10th and running through September 17th\, the Week Ride commences in Myrtle Creek and takes cyclists on a scenic tour through Camas Valley\, Bandon\, Gold Beach\, Brookings\, Indian Mary Park\, and Glendale.<br />\n<br />\nDay three - &quot\;Pacific Paradise&quot\; - will begin in Bandon and take cyclists to Gold Beach.</strong>
LOCATION:You'll get a bird's eye view of the ocean rock formations in Bandon by riding out high along the coastline. The Oregon Coast Bike Route will take you past cranberry bogs and coastal forests. An optional detour to the Cape Blanco Lighthouse offers spectacular views of the Pacific from the western-most point in Oregon. Either way\, you'll get some seriously jaw-dropping views when you arrive in Port Orford\, the oldest town on the Oregon coast. After lunch at Humbug Mountain State Park\, you'll follow along 101 before heading inland on country roads. Pedal until you reach the Rogue River and follow it back west for two nights at Gold Beach\, the sunniest place on the Oregon coast.
UID:e.1818.15753
SEQUENCE:3
DTSTAMP:20260425T181533Z
URL:https://business.grantspasschamber.org/events/details/cycle-oregon-week-ride-day-3-09-13-2016-15753
END:VEVENT

END:VCALENDAR
