BEGIN:VCALENDAR
VERSION:2.0
PRODID:-//ChamberMaster//Event Calendar 2.0//EN
METHOD:PUBLISH
X-PUBLISHED-TTL:P3D
REFRESH-INTERVAL:P3D
CALSCALE:GREGORIAN
BEGIN:VEVENT
DTSTART;VALUE=DATE:20160917
DTEND;VALUE=DATE:20160918
TRANSP:TRANSPARENT
X-MICROSOFT-CDO-ALLDAYEVENT:TRUE
SUMMARY:Cycle Oregon ~ Week Ride ~ Day 7
DESCRIPTION:The Week Ride is the original Cycle Oregon - a seven-day excursion through a different part of Oregon each year.\n\n\n\nBeginning on September 10th and running through September 17th\, the Week Ride commences in Myrtle Creek and takes cyclists on a scenic tour of Camas Valley\, Bandon\, Gold Beach\, Brookings\, Indian Mary Park\, and Glendale.\n\n\n\nDay seven - "End of the Rainbow" - bids farewell to cyclists in beautiful Myrtle Creek.
X-ALT-DESC;FMTTYPE=text/html:<strong>The Week Ride is the original Cycle Oregon - a seven-day excursion through a different part of Oregon each year.<br />\n<br />\nBeginning on September 10th and running through September 17th\, the Week Ride commences in Myrtle Creek and takes cyclists on a scenic tour of Camas Valley\, Bandon\, Gold Beach\, Brookings\, Indian Mary Park\, and Glendale.<br />\n<br />\nDay seven - &quot\;End of the Rainbow&quot\; - bids farewell to cyclists in beautiful Myrtle Creek.</strong>
LOCATION:Out of Glendale\, you'll take a light climb through a recent forest-fire burn area before descending to Cow Creek and easing into your final day in the saddle. You'll follow Cow Creek through Conifer and hardwood forests\, along the original Oregon and California railroads with the historic trestles within view. Feeling lucky with all those endorphins swirling? You can look for gold along this once-bustling gold-rush spot\, or just take it slow and soak your feet in the creek. You've earned it. On the other side of the canyon is the finish line - and your pot of gold.
UID:e.1818.15757
SEQUENCE:3
DTSTAMP:20260425T181527Z
URL:https://business.grantspasschamber.org/events/details/cycle-oregon-week-ride-day-7-09-17-2016-15757
END:VEVENT

END:VCALENDAR
