BEGIN:VCALENDAR
VERSION:2.0
PRODID:-//ChamberMaster//Event Calendar 2.0//EN
METHOD:PUBLISH
X-PUBLISHED-TTL:P3D
REFRESH-INTERVAL:P3D
CALSCALE:GREGORIAN
BEGIN:VEVENT
DTSTART;VALUE=DATE:20160916
DTEND;VALUE=DATE:20160917
TRANSP:TRANSPARENT
X-MICROSOFT-CDO-ALLDAYEVENT:TRUE
SUMMARY:Daytrips ~ Active Older Adults ~YMCA
DESCRIPTION:Tour the picturesque 37 acre historical 19th Century farm house\, owned and operated by the Southern Oregon Historical Society.\n\n\n\nLeave the driving to us and take the Y Bus\n\n\n\nCall YMCA at (541) 474- 0001 or see Website
X-ALT-DESC;FMTTYPE=text/html:<strong>Tour the picturesque 37 acre historical 19th Century farm house\, owned and operated by the Southern Oregon Historical Society.<br />\n<br />\nLeave the driving to us and take the Y Bus<br />\n<br />\nCall YMCA at (541) 474- 0001 or see Website</strong><br />\n<br />\n&nbsp\;
LOCATION:Leaving YMCA to Jacksonville
UID:e.1818.17777
SEQUENCE:3
DTSTAMP:20260425T181108Z
URL:https://business.grantspasschamber.org/events/details/daytrips-active-older-adults-ymca-17777
END:VEVENT

END:VCALENDAR
