BEGIN:VCALENDAR
VERSION:2.0
PRODID:-//ChamberMaster//Event Calendar 2.0//EN
METHOD:PUBLISH
X-PUBLISHED-TTL:P3D
REFRESH-INTERVAL:P3D
CALSCALE:GREGORIAN
BEGIN:VEVENT
DTSTART:20160810T000000Z
DTEND:20160810T020000Z
X-MICROSOFT-CDO-ALLDAYEVENT:FALSE
SUMMARY:Designer Social Event ~ Shop River Rock
DESCRIPTION:Exclusively for You & Your friends -   Designer Social\n\n\n\nFeaturing Hellgate Cellars wine tasting & hors d'oeuvres\n\n\n\nInterior Designer Discount - Receive 15% off year-round on furniture\, artwork\, and lighting purchases for your clients. Ask us how to join our exclusive Designer Program today.\n\n\n\n$15 OFF Your Entire Purchase- Offer valid August 9th 2016\, only. Not available on sale items\, Brighton and Pandora.Other exclusions may apply. Please see sales associates for details.
X-ALT-DESC;FMTTYPE=text/html:<strong><span style="font-size:16px\;"><em>Exclusively for You &amp\; Your friends -&nbsp\;&nbsp\; Designer Social</em></span><br />\n<br />\n<u>Featuring Hellgate Cellars wine tasting &amp\; hors d&rsquo\;oeuvres</u></strong><br />\n<br />\n<strong>Interior Designer Discount - Receive 15% off year-round on furniture\, artwork\, and lighting purchases for your clients. Ask us how to join our exclusive Designer Program today.</strong><br />\n<br />\n<strong>$15 OFF Your Entire Purchase- Offer valid August 9th 2016\, only. Not available on sale items\, Brighton and Pandora.Other exclusions may apply. Please see sales associates for details.</strong>
LOCATION:Shop River Rock 966 SW 6th Street. Grants Pass\, OR 97526
UID:e.1818.17727
SEQUENCE:3
DTSTAMP:20260425T192532Z
URL:https://business.grantspasschamber.org/events/details/designer-social-event-shop-river-rock-08-09-2016-17727
END:VEVENT

END:VCALENDAR
