BEGIN:VCALENDAR
VERSION:2.0
PRODID:-//ChamberMaster//Event Calendar 2.0//EN
METHOD:PUBLISH
X-PUBLISHED-TTL:P3D
REFRESH-INTERVAL:P3D
CALSCALE:GREGORIAN
BEGIN:VEVENT
DTSTART;VALUE=DATE:20160430
DTEND;VALUE=DATE:20160501
TRANSP:TRANSPARENT
X-MICROSOFT-CDO-ALLDAYEVENT:TRUE
SUMMARY:Dinner for the Downs Fundraiser ~ 4th Annual
DESCRIPTION:Southern Oregon Horse Racing Association would love for all to join in their 4th Annual Dinner for the Downs Fundraiser.\n\n\n\nKentucky Derby  Theme ~ Prizes for Best Derby Hat/ Most Debonair\n\n\n\nMonies will benefit a 4H Youth member who volunteers their time during the race meet.  Part of the proceeds go to Injured Jockey Fund\, Repairs of Equipment.\n\n\n\nS.O.H.R.A is a Non Profit that organizes and oversees Horse Racing at Grants Pass Downs.  We rely on volunteers that understand and value the importance of community involvement\, plus appreciate the Beauty of the Horse and Excitement of Horse Racing.\n\n\n\nAll are Invited.
X-ALT-DESC;FMTTYPE=text/html:<strong>Southern Oregon Horse Racing Association would love for all to join in their 4th Annual Dinner for the Downs Fundraiser.</strong><br />\n<br />\n<span style="font-size:14px\;"><em><strong>Kentucky Derby&nbsp\; Theme ~ Prizes for Best Derby Hat/ Most Debonair</strong></em></span><br />\n<br />\n<strong>Monies will benefit a 4H Youth member who volunteers their time during the race meet.&nbsp\; Part of the proceeds go to Injured Jockey Fund\, Repairs of Equipment.<br />\n<br />\nS.O.H.R.A is a Non Profit that organizes and oversees Horse Racing at Grants Pass Downs.&nbsp\; We rely on volunteers that understand and value the importance of community involvement\, plus appreciate the Beauty of the Horse and Excitement of Horse Racing.<br />\n<br />\nAll are Invited.</strong><br />\n&nbsp\;
LOCATION:Grants Pass Golf Course 230 Espey Rd Grants Pass
UID:e.1818.15793
SEQUENCE:3
DTSTAMP:20260426T013345Z
URL:https://business.grantspasschamber.org/events/details/dinner-for-the-downs-fundraiser-4th-annual-04-30-2016-15793
END:VEVENT

END:VCALENDAR
