BEGIN:VCALENDAR
VERSION:2.0
PRODID:-//ChamberMaster//Event Calendar 2.0//EN
METHOD:PUBLISH
X-PUBLISHED-TTL:P3D
REFRESH-INTERVAL:P3D
CALSCALE:GREGORIAN
BEGIN:VEVENT
DTSTART;VALUE=DATE:20160729
DTEND;VALUE=DATE:20160801
TRANSP:TRANSPARENT
X-MICROSOFT-CDO-ALLDAYEVENT:TRUE
SUMMARY:Downtown Grants Pass Side Walk Sale ~ Back to the 50's
DESCRIPTION:Downtown Grants Pass Side Walk Sale during Back to the 50's on Friday & Saturday\n\n\n\nDeeply discounted merchandise of gifts\, apparel\, jewelry and more......Come Downtown Grants Pass and stroll the stores and see the great prices ! ! ! \n\n\n\n(merchants open on Sunday will continue to feature the sidewalk sale\, but come early for best deals)
X-ALT-DESC;FMTTYPE=text/html:<strong><u>Downtown Grants Pass Side Walk Sale</u> during Back to the 50&#39\;s on Friday &amp\; Saturday<br />\n<br />\nDeeply discounted merchandise of gifts\, apparel\, jewelry and more......Come Downtown Grants Pass and stroll the stores and see the great prices ! ! !&nbsp\;<br />\n<br />\n(merchants open on Sunday will continue to feature the sidewalk sale\, but come early for best deals)</strong><br />\n&nbsp\;
LOCATION:Downtown Grants Pass
UID:e.1818.17693
SEQUENCE:3
DTSTAMP:20260425T211455Z
URL:https://business.grantspasschamber.org/events/details/downtown-grants-pass-side-walk-sale-back-to-the-50-s-07-29-2016-17693
END:VEVENT

END:VCALENDAR
