BEGIN:VCALENDAR
VERSION:2.0
PRODID:-//ChamberMaster//Event Calendar 2.0//EN
METHOD:PUBLISH
X-PUBLISHED-TTL:P3D
REFRESH-INTERVAL:P3D
CALSCALE:GREGORIAN
BEGIN:VEVENT
DTSTART;VALUE=DATE:20160429
DTEND;VALUE=DATE:20160430
TRANSP:TRANSPARENT
X-MICROSOFT-CDO-ALLDAYEVENT:TRUE
SUMMARY:Drug Court Graduation
DESCRIPTION:Join us as we celebrate with laughter\, tears\, and stories of strength and hope!
X-ALT-DESC;FMTTYPE=text/html:<strong>Join us as we celebrate with laughter\, tears\, and stories of strength and hope!</strong>
LOCATION:The Anne Basker Auditorium 604 NW 6th Street
UID:e.1818.17232
SEQUENCE:3
DTSTAMP:20260426T013803Z
URL:https://business.grantspasschamber.org/events/details/drug-court-graduation-04-29-2016-17232
END:VEVENT

END:VCALENDAR
