BEGIN:VCALENDAR
VERSION:2.0
PRODID:-//ChamberMaster//Event Calendar 2.0//EN
METHOD:PUBLISH
X-PUBLISHED-TTL:P3D
REFRESH-INTERVAL:P3D
CALSCALE:GREGORIAN
BEGIN:VEVENT
DTSTART;VALUE=DATE:20160917
DTEND;VALUE=DATE:20160918
TRANSP:TRANSPARENT
X-MICROSOFT-CDO-ALLDAYEVENT:TRUE
SUMMARY:Duck Derby 2016 ~ The Grants Pass Rotary Club Foundation Presents
DESCRIPTION:A fundraising rubber duck float with other family activities. Sponsored by Josephine County Rotary clubs.  "Quackin' For Kids"\n\n\n\nThis years proceeds will be dedicated to building a covered amphitheater at Wildlife Images\n\n\n\nLook for Envelopes all over town and enter to win
X-ALT-DESC;FMTTYPE=text/html:<strong>A fundraising rubber duck float with other family activities. Sponsored by Josephine County Rotary clubs.&nbsp\; &quot\;<u>Quackin&#39\; For Kids</u>&quot\;<br />\n<br />\nThis years proceeds will be dedicated to building a covered amphitheater at Wildlife Images<br />\n<br />\nLook for Envelopes all over town and enter to win</strong>
LOCATION:Riverside Park - Grants Pass
UID:e.1818.15507
SEQUENCE:3
DTSTAMP:20260425T181932Z
URL:https://business.grantspasschamber.org/events/details/duck-derby-2016-the-grants-pass-rotary-club-foundation-presents-09-17-2016-15507
END:VEVENT

END:VCALENDAR
