BEGIN:VCALENDAR
VERSION:2.0
PRODID:-//ChamberMaster//Event Calendar 2.0//EN
METHOD:PUBLISH
X-PUBLISHED-TTL:P3D
REFRESH-INTERVAL:P3D
CALSCALE:GREGORIAN
BEGIN:VEVENT
DTSTART:20241102T183000Z
DTEND:20241102T193000Z
X-MICROSOFT-CDO-ALLDAYEVENT:FALSE
SUMMARY:Día de los Muertos Bilingual Storytime Celebration
DESCRIPTION:Celebrate D a de los Muertos with bilingual stories\, crafts\, and learning! Families will hear stories in English and Spanish\, followed by themed crafts featuring Alebrijes   spirit animals that guide ancestors on their journey  and Calaveras   colorful skeleton faces.\n\n\n\nD a de los Muertos is a Mexican and Central American holiday rooted in indigenous traditions. It celebrates life and remembers those who have passed away with joy. Families honor loved ones with parades\, gatherings\, and ofrendas altars featuring marigold flowers\, food\, and family photos.\n\n\n\nThis program is offered at no charge and open to the public. A library card is not needed to participate.
X-ALT-DESC;FMTTYPE=text/html:<span style="font-size:20px\;">Celebrate D&iacute\;a de los Muertos with bilingual stories\, crafts\, and learning! Families will hear stories in English and Spanish\, followed by themed crafts featuring&nbsp\;Alebrijes&nbsp\;&mdash\; spirit animals that guide ancestors on their journey &mdash\;and&nbsp\;Calaveras&nbsp\;&mdash\; colorful skeleton faces.<br />\n<br />\nD&iacute\;a de los Muertos&nbsp\;is a Mexican and Central American holiday rooted in indigenous traditions. It celebrates life and remembers those who have passed away with joy. Families honor loved ones with parades\, gatherings\, and&nbsp\;ofrendas&mdash\;altars featuring marigold flowers\, food\, and family photos.<br />\n<br />\nThis program is offered at no charge and open to the public. A library card is not needed to participate.&nbsp\;</span>
LOCATION:Josephine Community Library-GP 200 NW C Street Grants Pass\, OR 97526
UID:e.1818.52291
SEQUENCE:3
DTSTAMP:20260420T020012Z
URL:https://business.grantspasschamber.org/events/details/d&#237;a-de-los-muertos-bilingual-storytime-celebration-52291
END:VEVENT

END:VCALENDAR
