BEGIN:VCALENDAR
VERSION:2.0
PRODID:-//ChamberMaster//Event Calendar 2.0//EN
METHOD:PUBLISH
X-PUBLISHED-TTL:P3D
REFRESH-INTERVAL:P3D
CALSCALE:GREGORIAN
BEGIN:VEVENT
DTSTART:20160327T190000Z
DTEND:20160327T190000Z
X-MICROSOFT-CDO-ALLDAYEVENT:FALSE
SUMMARY:Easter Egg Hunt at Jubilee Park
DESCRIPTION:Easter egg hunt will be held in Cave Junction's Jubilee Park.
X-ALT-DESC;FMTTYPE=text/html:Easter egg hunt will be held in Cave Junction&#39\;s Jubilee Park.
LOCATION:
UID:e.1818.15229
SEQUENCE:3
DTSTAMP:20260426T030610Z
URL:https://business.grantspasschamber.org/events/details/easter-egg-hunt-at-jubilee-park-03-27-2016-15229
END:VEVENT

END:VCALENDAR
