BEGIN:VCALENDAR
VERSION:2.0
PRODID:-//ChamberMaster//Event Calendar 2.0//EN
METHOD:PUBLISH
X-PUBLISHED-TTL:P3D
REFRESH-INTERVAL:P3D
CALSCALE:GREGORIAN
BEGIN:VEVENT
DTSTART;VALUE=DATE:20160326
DTEND;VALUE=DATE:20160327
TRANSP:TRANSPARENT
X-MICROSOFT-CDO-ALLDAYEVENT:TRUE
SUMMARY:Easter Egg Hunt ~ Brookdale Community Facility
DESCRIPTION:Hop on down for an Easter Egg Hunt\n\nBring the family for our Easter Celebration\, complete with an Easter Egg Hunt.  We invite you to enjoy refreshments\, visit with friends and family\, and experience fellowship and fun of living in our Brookdale Community
X-ALT-DESC;FMTTYPE=text/html:<strong><u>Hop on down for an Easter Egg Hunt</u><br />\nBring the family for our Easter Celebration\, complete with an Easter Egg Hunt.&nbsp\; We invite you to enjoy refreshments\, visit with friends and family\, and experience fellowship and fun of living in our Brookdale Community</strong>
LOCATION:Brookdale Grants Pass Village 1420 Redwood Circle
UID:e.1818.17148
SEQUENCE:3
DTSTAMP:20260426T030610Z
URL:https://business.grantspasschamber.org/events/details/easter-egg-hunt-brookdale-community-facility-03-26-2016-17148
END:VEVENT

END:VCALENDAR
