BEGIN:VCALENDAR
VERSION:2.0
PRODID:-//ChamberMaster//Event Calendar 2.0//EN
METHOD:PUBLISH
X-PUBLISHED-TTL:P3D
REFRESH-INTERVAL:P3D
CALSCALE:GREGORIAN
BEGIN:VEVENT
DTSTART;VALUE=DATE:20180401
DTEND;VALUE=DATE:20180402
TRANSP:TRANSPARENT
X-MICROSOFT-CDO-ALLDAYEVENT:TRUE
SUMMARY:Easter Egg Hunt - Church of the Nazarene
DESCRIPTION:Easter Egg Hunt Pursuit Church of the Nazarene\n\n12:30 pm following Easter Service\n\n3000 eggs stuffed with Candy youngsters will be in two age groups.
X-ALT-DESC;FMTTYPE=text/html:<strong>Easter Egg Hunt Pursuit Church of the Nazarene<br />\n12:30 pm following Easter Service<br />\n3000 eggs stuffed with Candy youngsters will be in two age groups.</strong>
LOCATION:Pursuit Church of the Nazarene 922 W.Harbeck Road
UID:e.1818.28683
SEQUENCE:3
DTSTAMP:20260424T051120Z
URL:https://business.grantspasschamber.org/events/details/easter-egg-hunt-church-of-the-nazarene-28683
END:VEVENT

END:VCALENDAR
