BEGIN:VCALENDAR
VERSION:2.0
PRODID:-//ChamberMaster//Event Calendar 2.0//EN
METHOD:PUBLISH
X-PUBLISHED-TTL:P3D
REFRESH-INTERVAL:P3D
CALSCALE:GREGORIAN
BEGIN:VEVENT
DTSTART;VALUE=DATE:20160430
DTEND;VALUE=DATE:20160502
TRANSP:TRANSPARENT
X-MICROSOFT-CDO-ALLDAYEVENT:TRUE
SUMMARY:Elk Mountain Highland Games & May Day Festival
DESCRIPTION:Scottish Heavy Athletics\, Live Music\, Costume Contest\, May Pole Dance & May Court\, Curtain Climbers\, Youth & Kids Activities\, Edged Weapons Course\, SCA Demos\, Fire Making\, Vaulting\, Cob & Blacksmith Demos\, Coyote Rising Puppets\n\n\n\nIntuitive Compass\, Ol' Mountain Due\, Jefferson Pipe Band\,\n\nThe Brothers Reed
X-ALT-DESC;FMTTYPE=text/html:<strong>Scottish Heavy Athletics\, Live Music\, Costume Contest\, May Pole Dance &amp\; May Court\, Curtain Climbers\, Youth &amp\; Kids Activities\, Edged Weapons Course\, SCA Demos\, Fire Making\, Vaulting\, Cob &amp\; Blacksmith Demos\, Coyote Rising Puppets<br />\n<br />\n<em>I<u>ntuitive Compass\, Ol&#39\; Mountain Due\, Jefferson Pipe Band\,<br />\nThe Brothers Reed</u></em></strong>
LOCATION:Evans Valley Education & Community Center 8205 E Evans Creek Rd Rogue River
UID:e.1818.17442
SEQUENCE:3
DTSTAMP:20260426T000329Z
URL:https://business.grantspasschamber.org/events/details/elk-mountain-highland-games-may-day-festival-04-30-2016-17442
END:VEVENT

END:VCALENDAR
