BEGIN:VCALENDAR
VERSION:2.0
PRODID:-//ChamberMaster//Event Calendar 2.0//EN
METHOD:PUBLISH
X-PUBLISHED-TTL:P3D
REFRESH-INTERVAL:P3D
CALSCALE:GREGORIAN
BEGIN:VEVENT
DTSTART;VALUE=DATE:20180428
DTEND;VALUE=DATE:20180430
TRANSP:TRANSPARENT
X-MICROSOFT-CDO-ALLDAYEVENT:TRUE
SUMMARY:Elk Mountain Highland Games & May Day Festival
DESCRIPTION:Come join the celebration!\n\n\n\nEvents include:\n\nScottish Heavy Athletics\, Live Music\, Costume Contest\, May Pole Dance & May Court\, Curtain Climbers\, Youth & Kids Activities\, Edged Weapons Course\, SCA Demos\, Fire Making\, Vaulting\, Cob & Blacksmith Demos\, Coyote Rising Puppets.
X-ALT-DESC;FMTTYPE=text/html:<strong>Come join the celebration!<br />\n<br />\nEvents include:<br />\nScottish Heavy Athletics\, Live Music\, Costume Contest\, May Pole Dance &amp\; May Court\, Curtain Climbers\, Youth &amp\; Kids Activities\, Edged Weapons Course\, SCA Demos\, Fire Making\, Vaulting\, Cob &amp\; Blacksmith Demos\, Coyote Rising Puppets.</strong><br />\n&nbsp\;
LOCATION:Evans Valley Education & Community Center 8205 E Evans Creek Rd Rogue River
UID:e.1818.28678
SEQUENCE:3
DTSTAMP:20260424T051119Z
URL:https://business.grantspasschamber.org/events/details/elk-mountain-highland-games-may-day-festival-28678
END:VEVENT

END:VCALENDAR
