BEGIN:VCALENDAR
VERSION:2.0
PRODID:-//ChamberMaster//Event Calendar 2.0//EN
METHOD:PUBLISH
X-PUBLISHED-TTL:P3D
REFRESH-INTERVAL:P3D
CALSCALE:GREGORIAN
BEGIN:VEVENT
DTSTART:20161016T000000Z
DTEND:20161016T040000Z
X-MICROSOFT-CDO-ALLDAYEVENT:FALSE
SUMMARY:Emblem Club Dinner and Balloon Raffle
DESCRIPTION:Dinner catered by Cartwright's. BBQ chicken and Tri Tip\, tossed salad\, potato salad\, beans\, dessert and beverage. $15.00.\n\n\n\nReservation Deadline: Oct. 8th!!\n\n\n\nRaffle Balloons $20. Value $40 to $250. Limited quantity.
X-ALT-DESC;FMTTYPE=text/html:<strong>Dinner catered by Cartwright&#39\;s. BBQ chicken and Tri Tip\, tossed salad\, potato salad\, beans\, dessert and beverage. $15.00.<br />\n<br />\n<u>Reservation Deadline</u>: Oct. 8th!!<br />\n<br />\nRaffle Balloons $20. Value $40 to $250. Limited quantity.</strong>
LOCATION:Arts and Craft Building\, Grants Pass Fairgrounds
UID:e.1818.17853
SEQUENCE:3
DTSTAMP:20260425T163154Z
URL:https://business.grantspasschamber.org/events/details/emblem-club-dinner-and-balloon-raffle-17853
END:VEVENT

END:VCALENDAR
