BEGIN:VCALENDAR
VERSION:2.0
PRODID:-//ChamberMaster//Event Calendar 2.0//EN
METHOD:PUBLISH
X-PUBLISHED-TTL:P3D
REFRESH-INTERVAL:P3D
CALSCALE:GREGORIAN
BEGIN:VEVENT
DTSTART:20180424T180000Z
DTEND:20180424T203000Z
X-MICROSOFT-CDO-ALLDAYEVENT:FALSE
SUMMARY:Employment Law Series 2018 - Harassment
DESCRIPTION:*Harassment in the Workplace\n\nIn light of recent events\, a refresher on\n\nharassment is a MUST for businesses. \n\nLearn what types of workplace conduct are\n\nprohibited by law\, and what employers can do\n\nto avoid such incidents in their workplaces.\n\nSPONSORED BY\nBBSI  and\n\nGrants Pass & JoCo Chamber of Commerce
X-ALT-DESC;FMTTYPE=text/html:<h2 style="font-style:italic\;"><span style="font-size:16px\;"><strong><span style="font-size:24px\;"><span style="font-family: arial\; color: rgb(31\, 73\, 125)\;">*Harassment in the Workplace</span></span></strong></span></h2>\n\n<p style="margin-bottom: 0.0001pt\; vertical-align: baseline\;"><span style="font-size:16px\;"><strong><span style="font-family: arial\; color: rgb(0\, 0\, 0)\;">In light of recent events\, a refresher on<br />\nharassment is a MUST for businesses.&nbsp\;</span><br style="font-family: arial\; font-size: 12px\;" />\n<span style="font-family: arial\; color: rgb(0\, 0\, 0)\;">Learn what types of&nbsp\;workplace conduct are<br />\nprohibited by law\, and what employers can do<br />\nto avoid such incidents in their workplaces.</span></strong></span></p>\n\n<h1 style="margin-bottom:.0001pt\;vertical-align:baseline\;"><strong style="font-size: 13px\;">SPONSORED BY</strong></h1>\n<strong>BBSI&nbsp\; and<br />\nGrants Pass &amp\; JoCo Chamber of Commerce</strong>\n\n<div>&nbsp\;</div>\n
LOCATION:The Guild Building Boardroom Event Room 1867 Williams Hwy
UID:e.1818.24891
SEQUENCE:3
DTSTAMP:20260424T050850Z
URL:https://business.grantspasschamber.org/events/details/employment-law-series-2018-harassment-24891
END:VEVENT

END:VCALENDAR
