BEGIN:VCALENDAR
VERSION:2.0
PRODID:-//ChamberMaster//Event Calendar 2.0//EN
METHOD:PUBLISH
X-PUBLISHED-TTL:P3D
REFRESH-INTERVAL:P3D
CALSCALE:GREGORIAN
BEGIN:VEVENT
DTSTART:20161012T160000Z
DTEND:20161012T190000Z
X-MICROSOFT-CDO-ALLDAYEVENT:FALSE
SUMMARY:Employment Law Update
DESCRIPTION:BOLI's Technical Assistance for Employers Program will conduct a 3-hour seminar on new laws affecting all Oregon employers.\n\n\n\nTopics include Oregon Sick Time\, new Oregon minimum wage\, changes to overtime exemptions by the U.S. Department of Labor\, 2016 changes to social media and paycheck privacy requirements\, "Ban the Box" for criminal history\, and January 1\, 2017 changes to itemized pay statement requirements.\n\n\n\nCoffee/tea and refreshments provided. 2.75 HRCI credits preapproved
X-ALT-DESC;FMTTYPE=text/html:<strong>BOLI&#39\;s Technical Assistance for Employers Program will conduct a 3-hour seminar on new laws affecting all Oregon employers.<br />\n<br />\nTopics include Oregon Sick Time\, new Oregon minimum wage\, changes to overtime exemptions by the U.S. Department of Labor\, 2016 changes to social media and paycheck privacy requirements\, &quot\;Ban the Box&quot\; for criminal history\, and January 1\, 2017 changes to itemized pay statement requirements.<br />\n<br />\nCoffee/tea and refreshments provided. 2.75 HRCI credits preapproved</strong>
LOCATION:Worksource Oregon Sequoia Room 1569 NE "F" St Grants Pass OR
UID:e.1818.17838
SEQUENCE:3
DTSTAMP:20260425T162852Z
URL:https://business.grantspasschamber.org/events/details/employment-law-update-17838
END:VEVENT

END:VCALENDAR
