BEGIN:VCALENDAR
VERSION:2.0
PRODID:-//ChamberMaster//Event Calendar 2.0//EN
METHOD:PUBLISH
X-PUBLISHED-TTL:P3D
REFRESH-INTERVAL:P3D
CALSCALE:GREGORIAN
BEGIN:VEVENT
DTSTART:20161011T010000Z
DTEND:20161011T030000Z
X-MICROSOFT-CDO-ALLDAYEVENT:FALSE
SUMMARY:Empty Bowls ~ Fundraiser
DESCRIPTION:The annual Empty Bowls event in Grants Pass\, Oregon will again be held at Parkway Christian Center.\n\n\n\nGuests choose a handcrafted bowl and are then served a bowl of soup and bread. The handmade bowl is theirs to take home as a reminder of hunger in our community.\n\n\n\nAll proceeds will go to help children and families in our community access food.
X-ALT-DESC;FMTTYPE=text/html:<strong>The annual Empty Bowls event in Grants Pass\, Oregon will again be held at Parkway Christian Center.<br />\n<br />\nGuests choose a handcrafted bowl and are then served a bowl of soup and bread. The handmade bowl is theirs to take home as a reminder of hunger in our community.<br />\n<br />\nAll proceeds will go to help children and families in our community access food.</strong>
LOCATION:Parkway Christian Center 229 NE Beacon Drive Grants Pass\, OR 97526
UID:e.1818.17780
SEQUENCE:3
DTSTAMP:20260425T162642Z
URL:https://business.grantspasschamber.org/events/details/empty-bowls-fundraiser-17780
END:VEVENT

END:VCALENDAR
