BEGIN:VCALENDAR
VERSION:2.0
PRODID:-//ChamberMaster//Event Calendar 2.0//EN
METHOD:PUBLISH
X-PUBLISHED-TTL:P3D
REFRESH-INTERVAL:P3D
CALSCALE:GREGORIAN
BEGIN:VEVENT
DTSTART;VALUE=DATE:20161010
DTEND;VALUE=DATE:20161011
TRANSP:TRANSPARENT
X-MICROSOFT-CDO-ALLDAYEVENT:TRUE
SUMMARY:Empty Bowls Project 2016
DESCRIPTION:Please join Options for Southern Oregon\, Josephine County Food Bank & Gospel Rescue Mission for our annual evening meal of soup and bread.\n\n\n\nYour support for children and families struggling with access to food IS making a difference in our community.\n\n\n\nA soup and bread supper designed to increase awareness of and to help alleviate hunger.\n\n\n\nPlease purchase your tickets in advance.  If you cannot attend\, please consider making a donation.
X-ALT-DESC;FMTTYPE=text/html:<strong>Please join Options for Southern Oregon\, Josephine County Food Bank &amp\; Gospel Rescue Mission for our annual evening meal of soup and bread.<br />\n<br />\nYour support for children and families struggling with access to food IS making a difference in our community.<br />\n<br />\nA soup and bread supper designed to increase awareness of and to help alleviate hunger.<br />\n<br />\nPlease purchase your tickets in advance.&nbsp\; If you cannot attend\, please consider making a donation.</strong>
LOCATION:Parkway Christian Center 229 NE Beacon Drive Grants Pass
UID:e.1818.15511
SEQUENCE:3
DTSTAMP:20260425T162551Z
URL:https://business.grantspasschamber.org/events/details/empty-bowls-project-2016-15511
END:VEVENT

END:VCALENDAR
