BEGIN:VCALENDAR
VERSION:2.0
PRODID:-//ChamberMaster//Event Calendar 2.0//EN
METHOD:PUBLISH
X-PUBLISHED-TTL:P3D
REFRESH-INTERVAL:P3D
CALSCALE:GREGORIAN
BEGIN:VEVENT
DTSTART:20180310T180000Z
DTEND:20180311T010000Z
X-MICROSOFT-CDO-ALLDAYEVENT:FALSE
SUMMARY:Enlightened Living Fair (formerly The Psychic and Holistic Faire
DESCRIPTION:The finest readers\, practitioners\, holistic products and services the Rogue Valley has to offer.
X-ALT-DESC;FMTTYPE=text/html:The finest readers\, practitioners\, holistic products and services the Rogue Valley has to offer.
LOCATION:Josephine County Fairgrounds Floral Building
UID:e.1818.8220
SEQUENCE:3
DTSTAMP:20260424T071125Z
URL:https://business.grantspasschamber.org/events/details/enlightened-living-fair-formerly-the-psychic-and-holistic-faire-03-14-2018-8220
END:VEVENT

END:VCALENDAR
