BEGIN:VCALENDAR
VERSION:2.0
PRODID:-//ChamberMaster//Event Calendar 2.0//EN
METHOD:PUBLISH
X-PUBLISHED-TTL:P3D
REFRESH-INTERVAL:P3D
CALSCALE:GREGORIAN
BEGIN:VEVENT
DTSTART;VALUE=DATE:20160716
DTEND;VALUE=DATE:20160717
TRANSP:TRANSPARENT
X-MICROSOFT-CDO-ALLDAYEVENT:TRUE
SUMMARY:Enlightened Living Faire 2016
DESCRIPTION:With psychics\, intuitives\, holistic products\, and workshops.
X-ALT-DESC;FMTTYPE=text/html:<strong>With psychics\, intuitives\, holistic products\, and workshops.</strong>
LOCATION:Josephine County Fairgrounds
UID:e.1818.15279
SEQUENCE:3
DTSTAMP:20260425T210857Z
URL:https://business.grantspasschamber.org/events/details/enlightened-living-faire-2016-07-16-2016-15279
END:VEVENT

END:VCALENDAR
