BEGIN:VCALENDAR
VERSION:2.0
PRODID:-//ChamberMaster//Event Calendar 2.0//EN
METHOD:PUBLISH
X-PUBLISHED-TTL:P3D
REFRESH-INTERVAL:P3D
CALSCALE:GREGORIAN
BEGIN:VEVENT
DTSTART:20161029T170000Z
DTEND:20161030T000000Z
X-MICROSOFT-CDO-ALLDAYEVENT:FALSE
SUMMARY:Enlightened Living Faire 2016
DESCRIPTION:Showcasing the best practitioners of natural healing arts\, holistic products and services and psychic/intuitive readers the Rogue Valley has to offer all under one roof. Lunch by Casa Amiga too!
X-ALT-DESC;FMTTYPE=text/html:<strong>Showcasing the best practitioners of natural healing arts\, holistic products and services and psychic/intuitive readers the Rogue Valley has to offer all under one roof. Lunch by Casa Amiga too!</strong>
LOCATION:Josephine County Fairgrounds
UID:e.1818.18002
SEQUENCE:3
DTSTAMP:20260425T163154Z
URL:https://business.grantspasschamber.org/events/details/enlightened-living-faire-2016-18002
END:VEVENT

END:VCALENDAR
