BEGIN:VCALENDAR
VERSION:2.0
PRODID:-//ChamberMaster//Event Calendar 2.0//EN
METHOD:PUBLISH
X-PUBLISHED-TTL:P3D
REFRESH-INTERVAL:P3D
CALSCALE:GREGORIAN
BEGIN:VEVENT
DTSTART;VALUE=DATE:20160225
DTEND;VALUE=DATE:20160226
TRANSP:TRANSPARENT
X-MICROSOFT-CDO-ALLDAYEVENT:TRUE
SUMMARY:Entrepreneurs Group Meeting
DESCRIPTION:This is the launch of a monthly "Entrepreneurs Group Meeting"............\n\n\n\nSpeaker for February:\n\nJohn Lamy\, New Product Development Consultant\n\nFormer Research & Dev Manager\, Hewlett-Packard\n\nFormer Regional Manager\, Oregon Entrepreneur Network\n\nM.I.T. Engineering\; Cornell University\, MBA
X-ALT-DESC;FMTTYPE=text/html:<span style="font-size:16px\;"><span style="font-size:14px\;"><strong>This is the launch of a monthly &quot\;Entrepreneurs Group Meeting&quot\;............</strong></span><br />\n<br />\n<u><strong>Speaker for February:</strong></u></span><br />\n<strong>John Lamy\, New Product Development Consultant</strong><br />\nFormer Research &amp\; Dev Manager\, Hewlett-Packard<br />\nFormer Regional Manager\, Oregon Entrepreneur Network<br />\nM.I.T. Engineering\; Cornell University\, MBA
LOCATION:The Haul 121 SW H Street (upstairs room) Grants Pass
UID:e.1818.15764
SEQUENCE:3
DTSTAMP:20260426T043919Z
URL:https://business.grantspasschamber.org/events/details/entrepreneurs-group-meeting-02-25-2016-15764
END:VEVENT

END:VCALENDAR
