BEGIN:VCALENDAR
VERSION:2.0
PRODID:-//ChamberMaster//Event Calendar 2.0//EN
METHOD:PUBLISH
X-PUBLISHED-TTL:P3D
REFRESH-INTERVAL:P3D
CALSCALE:GREGORIAN
BEGIN:VEVENT
DTSTART:20180531T020000Z
DTEND:20180531T040000Z
X-MICROSOFT-CDO-ALLDAYEVENT:FALSE
SUMMARY:Era of Megafires Presentation
DESCRIPTION:Please join the Rogue Valley Fire Prevention Cooperative for a FREE presentation of The Era of Megafires\, presented by Dr. Paul Hessburg on May 30th in Grants Pass. Doors will open at 6:15pm for a light reception.\n\n\n\nThe presentation begins at 7:00pm with opportunity for questions at the end of the production. Megafires\, wildfires over 100\,000 acres\, and the destruction caused by them is a serious and growing issue to our region.\n\n\n\nOur communities\, homes\, businesses and our very way of life are threatened. If we are going to make effective progress towards increasing fire resiliency\, we must increase awareness and stimulate conversation about this important issue across all levels of society. The "Era of Megafires" is a 70-minute\, multi-media\, traveling presentation hosted by Dr. Paul Hessburg\, who has conducted fire and landscape ecology research for more than 27 years.\n\n\n\nThe presented material comes in the form of fast-moving\, short\, topic-based talks interspersed with compelling video vignettes and features the work of wildfire photographer\, John Marshall. Think Ted X mixed with snappy documentary shorts and compelling photography. The videos are produced by award-winning documentary film company\, North 40 Productions\, of Wenatchee\, WA.
X-ALT-DESC;FMTTYPE=text/html:Please join the Rogue Valley Fire Prevention Cooperative for a FREE presentation of The Era of Megafires\, presented by Dr. Paul Hessburg on May 30th in Grants Pass. Doors will open at 6:15pm for a light reception.<br />\n<br />\nThe presentation begins at 7:00pm with opportunity for questions at the end of the production. Megafires\, wildfires over 100\,000 acres\, and the destruction caused by them is a serious and growing issue to our region.<br />\n<br />\nOur communities\, homes\, businesses and our very way of life are threatened. If we are going to make effective progress towards increasing fire resiliency\, we must increase awareness and stimulate conversation about this important issue across all levels of society. The &ldquo\;Era of Megafires&rdquo\; is a 70-minute\, multi-media\, traveling presentation hosted by Dr. Paul Hessburg\, who has conducted fire and landscape ecology research for more than 27 years.<br />\n<br />\nThe presented material comes in the form of fast-moving\, short\, topic-based talks interspersed with compelling video vignettes and features the work of wildfire photographer\, John Marshall. Think Ted X mixed with snappy documentary shorts and compelling photography. The videos are produced by award-winning documentary film company\, North 40 Productions\, of Wenatchee\, WA.
LOCATION:The Event Center at the Lodge at Riverside 940 SE 7th Street\, Grants Pass
UID:e.1818.29055
SEQUENCE:3
DTSTAMP:20260424T025948Z
URL:https://business.grantspasschamber.org/events/details/era-of-megafires-presentation-29055
END:VEVENT

END:VCALENDAR
