BEGIN:VCALENDAR
VERSION:2.0
PRODID:-//ChamberMaster//Event Calendar 2.0//EN
METHOD:PUBLISH
X-PUBLISHED-TTL:P3D
REFRESH-INTERVAL:P3D
CALSCALE:GREGORIAN
BEGIN:VEVENT
DTSTART;VALUE=DATE:20160812
DTEND;VALUE=DATE:20160814
TRANSP:TRANSPARENT
X-MICROSOFT-CDO-ALLDAYEVENT:TRUE
SUMMARY:Fair Entry Deadlines & Exhibits ~ Pavillion
DESCRIPTION:Pavilion Entry Paperwork & Exhibits are dropped on Friday & Saturday\, August 12th and August 13th from 9:00am - 5:00pm\n\n\n\nItems such as Arts\, Photo\, Crafts\, Kitchen Prepared \n\n\n\nPavilion: Ask for Superintendent  Jinx Shearu\n\n\n\nSee Tuesday\, August 16th for Floral Building & Ag Building
X-ALT-DESC;FMTTYPE=text/html:<strong>Pavilion Entry Paperwork &amp\; Exhibits are dropped on Friday &amp\; Saturday\, August 12th and August 13th from 9:00am - 5:00pm<br />\n<br />\n<u>Items such as Arts\, Photo\, Crafts\, Kitchen Prepared </u><br />\n<br />\n<u>Pavilion: Ask for Superintendent&nbsp\; Jinx Shearu<br />\n<br />\nSee Tuesday\, August 16th for Floral Building &amp\; Ag Building</u></strong>
LOCATION:Josephine County Fairgrounds Pavilion Building Check Out Facebook: https://www.facebook.com/JosephineCountyFairgrounds/
UID:e.1818.17730
SEQUENCE:3
DTSTAMP:20260425T192705Z
URL:https://business.grantspasschamber.org/events/details/fair-entry-deadlines-exhibits-pavillion-08-12-2016-17730
END:VEVENT

END:VCALENDAR
