BEGIN:VCALENDAR
VERSION:2.0
PRODID:-//ChamberMaster//Event Calendar 2.0//EN
METHOD:PUBLISH
X-PUBLISHED-TTL:P3D
REFRESH-INTERVAL:P3D
CALSCALE:GREGORIAN
BEGIN:VEVENT
DTSTART;VALUE=DATE:20161105
DTEND;VALUE=DATE:20161106
TRANSP:TRANSPARENT
X-MICROSOFT-CDO-ALLDAYEVENT:TRUE
SUMMARY:Fall Dance Festival ~ Concert of Bells
DESCRIPTION:A Free Concert of bell music and small ensembles\n\nStarts at 7:00pm
X-ALT-DESC;FMTTYPE=text/html:<strong>A Free Concert of bell music and small ensembles<br />\nStarts at 7:00pm</strong>
LOCATION:St. Paul's Lutheran Church (5th & Evelyn)
UID:e.1818.18047
SEQUENCE:3
DTSTAMP:20260425T145346Z
URL:https://business.grantspasschamber.org/events/details/fall-dance-festival-concert-of-bells-18047
END:VEVENT

END:VCALENDAR
