BEGIN:VCALENDAR
VERSION:2.0
PRODID:-//ChamberMaster//Event Calendar 2.0//EN
METHOD:PUBLISH
X-PUBLISHED-TTL:P3D
REFRESH-INTERVAL:P3D
CALSCALE:GREGORIAN
BEGIN:VEVENT
DTSTART;VALUE=DATE:20161031
DTEND;VALUE=DATE:20161101
TRANSP:TRANSPARENT
X-MICROSOFT-CDO-ALLDAYEVENT:TRUE
SUMMARY:Fall Family Festival
DESCRIPTION:Fall Family Festival with games\, music\, and food.
X-ALT-DESC;FMTTYPE=text/html:<strong>Fall Family Festival with games\, music\, and food.</strong>
LOCATION:River Valley Church
UID:e.1818.15520
SEQUENCE:3
DTSTAMP:20260425T163322Z
URL:https://business.grantspasschamber.org/events/details/fall-family-festival-10-31-2016-15520
END:VEVENT

END:VCALENDAR
