BEGIN:VCALENDAR
VERSION:2.0
PRODID:-//ChamberMaster//Event Calendar 2.0//EN
METHOD:PUBLISH
X-PUBLISHED-TTL:P3D
REFRESH-INTERVAL:P3D
CALSCALE:GREGORIAN
BEGIN:VEVENT
DTSTART:20230305T020000Z
DTEND:20230305T043000Z
X-MICROSOFT-CDO-ALLDAYEVENT:FALSE
SUMMARY:FFA Dinner & Auction-Hidden Valley
DESCRIPTION:FFA annual Dinner & Auction \n\n\n\nJoin us Saturday\, March 4th! Doors will open at 5:30pm with Dinner served at 6:00pm. The silent auction will officially close at 6:30pm which will mark the beginning of the live auction (including desserts).\n\n\n\nThere is no entrance fee\, however\, dinner tickets will be $15 each (children under 10 eat free). We will be accepting check\, cash\, and cards for your convenience. If you would like to reserve a table for 6 or more\, please contact Ms. Shodin at trinity.shodin@threerivers.k12.or.us.
X-ALT-DESC;FMTTYPE=text/html:<br />\n<span style="font-size:16px\;"><span style="font-size:20px\;"><strong>FFA annual Dinner &amp\; Auction&nbsp\;</strong></span><br />\n<br />\nJoin us Saturday\, March 4th!&nbsp\;Doors will open at 5:30pm with Dinner served at 6:00pm. The silent auction will officially close at 6:30pm which will mark the beginning of the live auction (including desserts).<br />\n<br />\nThere is no entrance fee\, however\, dinner tickets will be $15 each (children under 10 eat free). We will be accepting check\, cash\, and cards for your convenience. If you would like to reserve a table for 6 or more\, please contact Ms. Shodin at trinity.shodin@threerivers.k12.or.us.</span>
LOCATION:JOCO Fairgrounds 1451 Fairgrounds Rd. Grants Pass\, OR 97527
UID:e.1818.42463
SEQUENCE:3
DTSTAMP:20260422T120932Z
URL:https://business.grantspasschamber.org/events/details/ffa-dinner-auction-hidden-valley-42463
END:VEVENT

END:VCALENDAR
