BEGIN:VCALENDAR
VERSION:2.0
PRODID:-//ChamberMaster//Event Calendar 2.0//EN
METHOD:PUBLISH
X-PUBLISHED-TTL:P3D
REFRESH-INTERVAL:P3D
CALSCALE:GREGORIAN
BEGIN:VEVENT
DTSTART:20160329T000000Z
DTEND:20160329T020000Z
X-MICROSOFT-CDO-ALLDAYEVENT:FALSE
SUMMARY:FIBER RICH FOODS
DESCRIPTION:We probably all need more fiber in our diet. This class will give you lots of tasty\, new options for adding fiber to your every day menu. FREE COOKING CLASS! Class includes recipes as well as samples of each item prepared. Classes will be held in the Demonstration Kitchen on the 4th Floor of the Asante Center for Outpatient Health located at 537 SW Union Avenue in Grants Pass. Space is limited\, reservations are required. Please call and reserve your seat at 541-471-4208.
X-ALT-DESC;FMTTYPE=text/html:We probably all need more fiber in our diet. This class will give you lots of tasty\, new options for adding fiber to your every day menu. FREE COOKING CLASS! Class includes recipes as well as samples of each item prepared. Classes will be held in the Demonstration Kitchen on the 4th Floor of the Asante Center for Outpatient Health located at 537 SW Union Avenue in Grants Pass. Space is limited\, reservations are required. Please call and reserve your seat at 541-471-4208.
LOCATION:Asante Center for Outpatient Health 537 SW Union Ave Grants Pass\, OR 97527 Demonstration Kitchen\, Fourth Floor ? Straight ahead off the elevator
UID:e.1818.15576
SEQUENCE:3
DTSTAMP:20260426T030739Z
URL:https://business.grantspasschamber.org/events/details/fiber-rich-foods-03-28-2016-15576
END:VEVENT

END:VCALENDAR
